BEGIN:VCALENDAR
VERSION:2.0
PRODID:-//Sailpartner.de - ECPv6.15.20//NONSGML v1.0//EN
CALSCALE:GREGORIAN
METHOD:PUBLISH
X-ORIGINAL-URL:https://www.sailpartner.de
X-WR-CALDESC:Veranstaltungen für Sailpartner.de
REFRESH-INTERVAL;VALUE=DURATION:PT1H
X-Robots-Tag:noindex
X-PUBLISHED-TTL:PT1H
BEGIN:VTIMEZONE
TZID:Europe/Paris
BEGIN:DAYLIGHT
TZOFFSETFROM:+0100
TZOFFSETTO:+0200
TZNAME:CEST
DTSTART:20250330T010000
END:DAYLIGHT
BEGIN:STANDARD
TZOFFSETFROM:+0200
TZOFFSETTO:+0100
TZNAME:CET
DTSTART:20251026T010000
END:STANDARD
BEGIN:DAYLIGHT
TZOFFSETFROM:+0100
TZOFFSETTO:+0200
TZNAME:CEST
DTSTART:20260329T010000
END:DAYLIGHT
BEGIN:STANDARD
TZOFFSETFROM:+0200
TZOFFSETTO:+0100
TZNAME:CET
DTSTART:20261025T010000
END:STANDARD
BEGIN:DAYLIGHT
TZOFFSETFROM:+0100
TZOFFSETTO:+0200
TZNAME:CEST
DTSTART:20270328T010000
END:DAYLIGHT
BEGIN:STANDARD
TZOFFSETFROM:+0200
TZOFFSETTO:+0100
TZNAME:CET
DTSTART:20271031T010000
END:STANDARD
END:VTIMEZONE
BEGIN:VEVENT
DTSTART;TZID=Europe/Paris:20260126T193000
DTEND;TZID=Europe/Paris:20260126T213000
DTSTAMP:20260421T110641
CREATED:20251211T124828Z
LAST-MODIFIED:20251203T142823Z
UID:10000028-1769455800-1769463000@www.sailpartner.de
SUMMARY:Navigation | Block 1: Gezeitenkunde II
DESCRIPTION:Dieses Modul besteht aus 3 Blöcken \nVermittelt die Grundlagen der Gezeiten und Strömungen sowie deren Bedeutung für die Navigation. Behandelt werden das Lesen und Anwenden von Gezeitentafeln\, Stromatlanten und Rechenverfahren zur Bestimmung von Wasserständen\, Tidenhüben und Stromstärken. \nDer Fokus liegt auf der praktischen Umsetzung: typische Aufgabenstellungen\, die Berücksichtigung von Strömungen bei der Kursplanung und der sichere Umgang mit den relevanten Unterlagen. Die Inhalte eignen sich sowohl zur gezielten Auffrischung als auch zur Vorbereitung auf die Prüfungsanteile in SSS und SHS.
URL:https://www.sailpartner.de/event/navigation-gezeitenkunde/
LOCATION:Online\, via Zoom
CATEGORIES:SSS - SHS Führerscheinausbildung,SSS-SHS Ausbildung-online
ATTACH;FMTTYPE=image/png:https://www.sailpartner.de/wp-content/uploads/SSS-SHS-Ausbildung-Icon-300x300-Navigation-251201.png
END:VEVENT
BEGIN:VEVENT
DTSTART;VALUE=DATE:20260131
DTEND;VALUE=DATE:20260202
DTSTAMP:20260421T110641
CREATED:20250225T191454Z
LAST-MODIFIED:20250311T124535Z
UID:10000006-1769817600-1769990399@www.sailpartner.de
SUMMARY:Medizin auf See Training
DESCRIPTION: 
URL:https://www.sailpartner.de/event/medizin-auf-see-training-260131/
LOCATION:Hannover\, Hannover
CATEGORIES:Medizin auf See - World Sailing zertifiiziert
ATTACH;FMTTYPE=image/jpeg:https://www.sailpartner.de/wp-content/uploads/Medical-Training-1200x414px-1.jpg
ORGANIZER;CN="Sailpartner":MAILTO:info@sailpartner.de
END:VEVENT
END:VCALENDAR