BEGIN:VCALENDAR
VERSION:2.0
PRODID:-//Sailpartner.de - ECPv6.15.20//NONSGML v1.0//EN
CALSCALE:GREGORIAN
METHOD:PUBLISH
X-ORIGINAL-URL:https://www.sailpartner.de
X-WR-CALDESC:Veranstaltungen für Sailpartner.de
REFRESH-INTERVAL;VALUE=DURATION:PT1H
X-Robots-Tag:noindex
X-PUBLISHED-TTL:PT1H
BEGIN:VTIMEZONE
TZID:Europe/Paris
BEGIN:DAYLIGHT
TZOFFSETFROM:+0100
TZOFFSETTO:+0200
TZNAME:CEST
DTSTART:20240331T010000
END:DAYLIGHT
BEGIN:STANDARD
TZOFFSETFROM:+0200
TZOFFSETTO:+0100
TZNAME:CET
DTSTART:20241027T010000
END:STANDARD
BEGIN:DAYLIGHT
TZOFFSETFROM:+0100
TZOFFSETTO:+0200
TZNAME:CEST
DTSTART:20250330T010000
END:DAYLIGHT
BEGIN:STANDARD
TZOFFSETFROM:+0200
TZOFFSETTO:+0100
TZNAME:CET
DTSTART:20251026T010000
END:STANDARD
BEGIN:DAYLIGHT
TZOFFSETFROM:+0100
TZOFFSETTO:+0200
TZNAME:CEST
DTSTART:20260329T010000
END:DAYLIGHT
BEGIN:STANDARD
TZOFFSETFROM:+0200
TZOFFSETTO:+0100
TZNAME:CET
DTSTART:20261025T010000
END:STANDARD
BEGIN:DAYLIGHT
TZOFFSETFROM:+0100
TZOFFSETTO:+0200
TZNAME:CEST
DTSTART:20270328T010000
END:DAYLIGHT
BEGIN:STANDARD
TZOFFSETFROM:+0200
TZOFFSETTO:+0100
TZNAME:CET
DTSTART:20271031T010000
END:STANDARD
END:VTIMEZONE
BEGIN:VEVENT
DTSTART;TZID=Europe/Paris:20260318T193000
DTEND;TZID=Europe/Paris:20260318T213000
DTSTAMP:20260419T151337
CREATED:20260211T113316Z
LAST-MODIFIED:20260211T114911Z
UID:10000042-1773862200-1773869400@www.sailpartner.de
SUMMARY:Online-Seminar: Medikamente an Bord
DESCRIPTION: 
URL:https://www.sailpartner.de/event/online-seminar-medikamente-an-bord/
LOCATION:Online\, via Zoom
CATEGORIES:Medizin auf See - World Sailing zertifiiziert
ATTACH;FMTTYPE=image/jpeg:https://www.sailpartner.de/wp-content/uploads/Online-Seminare-600x333-16-9-Kopie-4-100.jpg
ORGANIZER;CN="Sailpartner":MAILTO:info@sailpartner.de
END:VEVENT
BEGIN:VEVENT
DTSTART;TZID=Europe/Paris:20260305T193000
DTEND;TZID=Europe/Paris:20260305T213000
DTSTAMP:20260419T151337
CREATED:20251113T121835Z
LAST-MODIFIED:20260211T115004Z
UID:10000026-1772739000-1772746200@www.sailpartner.de
SUMMARY:Online-Seminar: Astronomische Navigation
DESCRIPTION: 
URL:https://www.sailpartner.de/event/medikamente-fuer-die-bordapotheke/
LOCATION:Online\, via Zoom
CATEGORIES:Medizin auf See - World Sailing zertifiiziert
ATTACH;FMTTYPE=image/jpeg:https://www.sailpartner.de/wp-content/uploads/Online-Seminare-600x333-16-9-Kopie-4-100.jpg
ORGANIZER;CN="Sailpartner":MAILTO:info@sailpartner.de
END:VEVENT
BEGIN:VEVENT
DTSTART;TZID=Europe/Paris:20260126T193000
DTEND;TZID=Europe/Paris:20260126T213000
DTSTAMP:20260419T151337
CREATED:20251211T124828Z
LAST-MODIFIED:20251203T142823Z
UID:10000028-1769455800-1769463000@www.sailpartner.de
SUMMARY:Navigation | Block 1: Gezeitenkunde II
DESCRIPTION:Dieses Modul besteht aus 3 Blöcken \nVermittelt die Grundlagen der Gezeiten und Strömungen sowie deren Bedeutung für die Navigation. Behandelt werden das Lesen und Anwenden von Gezeitentafeln\, Stromatlanten und Rechenverfahren zur Bestimmung von Wasserständen\, Tidenhüben und Stromstärken. \nDer Fokus liegt auf der praktischen Umsetzung: typische Aufgabenstellungen\, die Berücksichtigung von Strömungen bei der Kursplanung und der sichere Umgang mit den relevanten Unterlagen. Die Inhalte eignen sich sowohl zur gezielten Auffrischung als auch zur Vorbereitung auf die Prüfungsanteile in SSS und SHS.
URL:https://www.sailpartner.de/event/navigation-gezeitenkunde/
LOCATION:Online\, via Zoom
CATEGORIES:SSS - SHS Führerscheinausbildung,SSS-SHS Ausbildung-online
ATTACH;FMTTYPE=image/png:https://www.sailpartner.de/wp-content/uploads/SSS-SHS-Ausbildung-Icon-300x300-Navigation-251201.png
END:VEVENT
BEGIN:VEVENT
DTSTART;TZID=Europe/Paris:20251220T193000
DTEND;TZID=Europe/Paris:20251220T193000
DTSTAMP:20260419T151337
CREATED:20251203T142942Z
LAST-MODIFIED:20251203T142942Z
UID:10000040-1766259000-1766259000@www.sailpartner.de
SUMMARY:Wetter | Block 4: Tropische Wirbelstürme III
DESCRIPTION:Dieses Modul besteht aus 3 Blöcken \nVermittelt die Grundlagen der Gezeiten und Strömungen sowie deren Bedeutung für die Navigation. Behandelt werden das Lesen und Anwenden von Gezeitentafeln\, Stromatlanten und Rechenverfahren zur Bestimmung von Wasserständen\, Tidenhüben und Stromstärken. \nDer Fokus liegt auf der praktischen Umsetzung: typische Aufgabenstellungen\, die Berücksichtigung von Strömungen bei der Kursplanung und der sichere Umgang mit den relevanten Unterlagen. Die Inhalte eignen sich sowohl zur gezielten Auffrischung als auch zur Vorbereitung auf die Prüfungsanteile in SSS und SHS.
URL:https://www.sailpartner.de/event/wetter-block-4-tropische-wirbelstuerme-iii/
LOCATION:Online\, via Zoom
CATEGORIES:SSS - SHS Führerscheinausbildung,SSS-SHS Ausbildung-online
ATTACH;FMTTYPE=image/png:https://www.sailpartner.de/wp-content/uploads/SSS-SHS-Ausbildung-Icon-300x300-Wetter-251201.png
END:VEVENT
BEGIN:VEVENT
DTSTART;TZID=Europe/Paris:20251219T193000
DTEND;TZID=Europe/Paris:20251219T193000
DTSTAMP:20260419T151337
CREATED:20251203T142456Z
LAST-MODIFIED:20251203T142456Z
UID:10000039-1766172600-1766172600@www.sailpartner.de
SUMMARY:Wetter | Block 2: Druckgebiete III
DESCRIPTION:Dieses Modul besteht aus 3 Blöcken \nVermittelt die Grundlagen der Gezeiten und Strömungen sowie deren Bedeutung für die Navigation. Behandelt werden das Lesen und Anwenden von Gezeitentafeln\, Stromatlanten und Rechenverfahren zur Bestimmung von Wasserständen\, Tidenhüben und Stromstärken. \nDer Fokus liegt auf der praktischen Umsetzung: typische Aufgabenstellungen\, die Berücksichtigung von Strömungen bei der Kursplanung und der sichere Umgang mit den relevanten Unterlagen. Die Inhalte eignen sich sowohl zur gezielten Auffrischung als auch zur Vorbereitung auf die Prüfungsanteile in SSS und SHS.
URL:https://www.sailpartner.de/event/wetter-block-2-druckgebiete-iii/
LOCATION:Online\, via Zoom
CATEGORIES:SSS - SHS Führerscheinausbildung,SSS-SHS Ausbildung-online
ATTACH;FMTTYPE=image/png:https://www.sailpartner.de/wp-content/uploads/SSS-SHS-Ausbildung-Icon-300x300-Wetter-251201.png
END:VEVENT
BEGIN:VEVENT
DTSTART;TZID=Europe/Paris:20251217T193000
DTEND;TZID=Europe/Paris:20251217T193000
DTSTAMP:20260419T151337
CREATED:20251203T142354Z
LAST-MODIFIED:20251203T142354Z
UID:10000038-1765999800-1765999800@www.sailpartner.de
SUMMARY:Wetter | Block 1: Planetarisches Windsystem I
DESCRIPTION:Dieses Modul besteht aus 3 Blöcken \nVermittelt die Grundlagen der Gezeiten und Strömungen sowie deren Bedeutung für die Navigation. Behandelt werden das Lesen und Anwenden von Gezeitentafeln\, Stromatlanten und Rechenverfahren zur Bestimmung von Wasserständen\, Tidenhüben und Stromstärken. \nDer Fokus liegt auf der praktischen Umsetzung: typische Aufgabenstellungen\, die Berücksichtigung von Strömungen bei der Kursplanung und der sichere Umgang mit den relevanten Unterlagen. Die Inhalte eignen sich sowohl zur gezielten Auffrischung als auch zur Vorbereitung auf die Prüfungsanteile in SSS und SHS.
URL:https://www.sailpartner.de/event/wetter-block-1-planetarisches-windsystem-i/
LOCATION:Online\, via Zoom
CATEGORIES:SSS - SHS Führerscheinausbildung,SSS-SHS Ausbildung-online
ATTACH;FMTTYPE=image/png:https://www.sailpartner.de/wp-content/uploads/SSS-SHS-Ausbildung-Icon-300x300-Wetter-251201.png
END:VEVENT
BEGIN:VEVENT
DTSTART;TZID=Europe/Paris:20251214T193000
DTEND;TZID=Europe/Paris:20251214T193000
DTSTAMP:20260419T151337
CREATED:20251203T142102Z
LAST-MODIFIED:20251203T142616Z
UID:10000037-1765740600-1765740600@www.sailpartner.de
SUMMARY:Navigation | Block 1: Gezeitenkunde III
DESCRIPTION:Dieses Modul besteht aus 3 Blöcken \nVermittelt die Grundlagen der Gezeiten und Strömungen sowie deren Bedeutung für die Navigation. Behandelt werden das Lesen und Anwenden von Gezeitentafeln\, Stromatlanten und Rechenverfahren zur Bestimmung von Wasserständen\, Tidenhüben und Stromstärke
URL:https://www.sailpartner.de/event/navigation-modul-1-gezeitenkunde-iii/
LOCATION:Online\, via Zoom
CATEGORIES:SSS - SHS Führerscheinausbildung,SSS-SHS Ausbildung-online
ATTACH;FMTTYPE=image/png:https://www.sailpartner.de/wp-content/uploads/SSS-SHS-Ausbildung-Icon-300x300-Navigation-251201.png
END:VEVENT
BEGIN:VEVENT
DTSTART;TZID=Europe/Paris:20251209T193000
DTEND;TZID=Europe/Paris:20251209T210000
DTSTAMP:20260419T151337
CREATED:20251203T130159Z
LAST-MODIFIED:20251203T142746Z
UID:10000027-1765308600-1765314000@www.sailpartner.de
SUMMARY:Navigation | Block 1: Gezeitenkunde I
DESCRIPTION:Dieses Modul besteht aus 3 Blöcken \nVermittelt die Grundlagen der Gezeiten und Strömungen sowie deren Bedeutung für die Navigation. Behandelt werden das Lesen und Anwenden von Gezeitentafeln\, Stromatlanten und Rechenverfahren zur Bestimmung von Wasserständen\, Tidenhüben und Stromstärke
URL:https://www.sailpartner.de/event/navigation-gezeitenkunde-2/
LOCATION:Online\, via Zoom
CATEGORIES:SSS - SHS Führerscheinausbildung,SSS-SHS Ausbildung-online
END:VEVENT
END:VCALENDAR